BEGIN:VCALENDAR
VERSION:2.0
PRODID:-//AudioTheme 3.0.2
BEGIN:VEVENT
UID:urn:uuid:8c80cec5-74e9-47f3-aaa8-b97fb676985e
URL:https://emilymaguire.com/shows/bawdrip-village-hall-2/
DTSTART;VALUE=DATE:20261031
SUMMARY:Bawdrip Village Hall
DESCRIPTION:with violinist Sue Lord
LOCATION:Bawdrip Village Hall\, Badgers\, Eastside Lane\, Bawdrip\, Bridgwater\, \, UK\, TA7 8QB
END:VEVENT
END:VCALENDAR
