BEGIN:VCALENDAR
VERSION:2.0
PRODID:-//AudioTheme 3.0.2
BEGIN:VEVENT
UID:urn:uuid:1323574b-7e85-4db8-a9e7-244c3b6db2ea
URL:https://emilymaguire.com/shows/brendon-books/
DTSTART;TZID=GMT:20181108T000000
SUMMARY:Brendon Books
DESCRIPTION:Meditation Mind tour
LOCATION:Brendon Books\, Old Brewery Buildings\, Bath Place\, Taunton\, Taunton\, \, TA1 4ER
END:VEVENT
END:VCALENDAR
