BEGIN:VCALENDAR
VERSION:2.0
PRODID:-//AudioTheme 3.0.2
BEGIN:VEVENT
UID:urn:uuid:ce005b3a-84f4-4c7d-8693-5a28b1dbf732
URL:https://emilymaguire.com/shows/chapter-one-books/
DTSTART;TZID=GMT:20181117T000000
SUMMARY:Chapter One Books
DESCRIPTION:'Meditation Mind' poetry & song tour
LOCATION:Chapter One Books\, Chatsworth House\, 19 Lever Street\, Manchester\, Manchester\, \, M1 1BY
END:VEVENT
END:VCALENDAR
