BEGIN:VCALENDAR
VERSION:2.0
PRODID:-//AudioTheme 3.0.2
BEGIN:VEVENT
UID:urn:uuid:34062e66-f567-459b-898e-51217902cbeb
URL:https://emilymaguire.com/shows/craig-town-hall/
DTSTART;VALUE=DATE:20170821
SUMMARY:Crail Town Hall
DESCRIPTION:Co-headline gig with Me For Queen
LOCATION:Crail Town Hall\, Marketgate South\, Crail\, Fife\, Scotland\, KY10 3TL
END:VEVENT
END:VCALENDAR
