BEGIN:VCALENDAR
VERSION:2.0
PRODID:-//AudioTheme 3.0.2
BEGIN:VEVENT
UID:urn:uuid:4be2aa8a-60d3-4d9d-be51-348050657554
URL:https://emilymaguire.com/shows/dechen-london-sakya-buddhist-centre/
DTSTART;TZID=GMT:20181206T000000
SUMMARY:Dechen London: Sakya Buddhist Centre
DESCRIPTION:'Meditation Mind' poetry & song tour
LOCATION:Dechen London: Sakya Buddhist Centre\, 106 Chepstow Road\, London\, London\, \, W2 5QS
END:VEVENT
END:VCALENDAR
