BEGIN:VCALENDAR
VERSION:2.0
PRODID:-//AudioTheme 3.0.2
BEGIN:VEVENT
UID:urn:uuid:b39d3b1d-d9e8-4b13-94b0-40a95fd64a72
URL:https://emilymaguire.com/shows/gaunts-house/
DTSTART;TZID=GMT:20181027T000000
SUMMARY:Gaunts House
DESCRIPTION:Book early for this very special venue... tickets on sale now.
LOCATION:Gaunts House\, Petersham Lane\, Wimborne\, Wimborne\, \, UK\, BH21 4JD
END:VEVENT
END:VCALENDAR
