BEGIN:VCALENDAR
VERSION:2.0
PRODID:-//AudioTheme 3.0.2
BEGIN:VEVENT
UID:urn:uuid:0bab3bdf-0eac-4e13-aaa0-08e8c0e1a338
URL:https://emilymaguire.com/shows/gig-1440/
DTSTART;TZID=GMT:20180718T000000
SUMMARY:Biddulph Up In Arms
LOCATION:Biddulph Up In Arms\, Biddulph Town Hall\, High Street\, Biddulph\, ST8 6AR\, Biddulph\, Staffordshire
END:VEVENT
END:VCALENDAR
