BEGIN:VCALENDAR
VERSION:2.0
PRODID:-//AudioTheme 3.0.2
BEGIN:VEVENT
UID:urn:uuid:bbe9483a-a4f2-4850-856a-e68c0c15ba8b
URL:https://emilymaguire.com/shows/gig-1879/
DTSTART;TZID=GMT:20181129T000000
SUMMARY:Hunting Raven Books
DESCRIPTION:'Meditation Mind' poetry & song tour
LOCATION:Hunting Raven Books\, 10 Cheap Street\, Frome\, Frome\, \, BA11 1BN
END:VEVENT
END:VCALENDAR
