BEGIN:VCALENDAR
VERSION:2.0
PRODID:-//AudioTheme 3.0.2
BEGIN:VEVENT
UID:urn:uuid:17905bcf-6bb5-43d6-9c28-3cbe530a43df
URL:https://emilymaguire.com/shows/heddington-village-hall-2/
DTSTART;VALUE=DATE:20261010
SUMMARY:Heddington Village Hall
DESCRIPTION:with violinist Sue Lord
LOCATION:Heddington Village Hall\, Heddington\, Calne\, \, SN11 0PJ
END:VEVENT
END:VCALENDAR
