BEGIN:VCALENDAR
VERSION:2.0
PRODID:-//AudioTheme 3.0.2
BEGIN:VEVENT
UID:urn:uuid:1b71fcb4-7b5b-40f5-91c0-6de750be1922
URL:https://emilymaguire.com/shows/kingsmead-house-concerts-2/
DTSTART;TZID=GMT:20261004T000000
SUMMARY:Kingsmead House Concerts
DESCRIPTION:with violinist Sue Lord
LOCATION:Private house concert\, High Wycombe\, 
END:VEVENT
END:VCALENDAR
