BEGIN:VCALENDAR
VERSION:2.0
PRODID:-//AudioTheme 3.0.2
BEGIN:VEVENT
UID:urn:uuid:61e75e17-e7fd-45d4-9103-2f20c86b209e
URL:https://emilymaguire.com/shows/newbald-village-hall/
DTSTART;TZID=GMT:20260802T000000
SUMMARY:Newbald Village Hall
DESCRIPTION:with violinist Sue Lord  Doors 4.15pm
LOCATION:Newbald Village Hall\, Townside Road\, North Newbald\, York\, \, YO43 4SL
END:VEVENT
END:VCALENDAR
