BEGIN:VCALENDAR
VERSION:2.0
PRODID:-//AudioTheme 3.0.2
BEGIN:VEVENT
UID:urn:uuid:bc038de4-8250-43ff-bfb9-395faca581ae
URL:https://emilymaguire.com/shows/octavos-book-cafe-wine-bar/
DTSTART;TZID=GMT:20181116T000000
SUMMARY:Octavo's Book Cafe & Wine Bar
DESCRIPTION:'Meditation Mind' poetry & song tour
LOCATION:Octavo's Book Cafe & Wine Bar\, West Bute Street\, Cardiff\, Cardiff\, \, CF10 5LJ
END:VEVENT
END:VCALENDAR
