BEGIN:VCALENDAR
VERSION:2.0
PRODID:-//AudioTheme 3.0.2
BEGIN:VEVENT
UID:urn:uuid:6c9d90ce-8460-47c0-a03c-50a864d299f6
URL:https://emilymaguire.com/shows/private-house-concert-15/
DTSTART;VALUE=DATE:20260801
SUMMARY:Private house concert
DESCRIPTION:with violinist Sue Lord
LOCATION:Private house concert\, Doncaster\, 
END:VEVENT
END:VCALENDAR
