BEGIN:VCALENDAR
VERSION:2.0
PRODID:-//AudioTheme 3.0.2
BEGIN:VEVENT
UID:urn:uuid:2fcc8c6f-6d78-4016-bc25-5109c3507e62
URL:https://emilymaguire.com/shows/private-house-concert-17/
DTSTART;VALUE=DATE:20261107
SUMMARY:Private house concert
DESCRIPTION:with violinist Sue Lord
LOCATION:Private house concert\, Whitland\, Carmarthenshire
END:VEVENT
END:VCALENDAR
