BEGIN:VCALENDAR
VERSION:2.0
PRODID:-//AudioTheme 3.0.2
BEGIN:VEVENT
UID:urn:uuid:365b74c8-337f-46ab-9d40-19d004d2f9fa
URL:https://emilymaguire.com/shows/restore/
DTSTART;TZID=GMT:20181110T000000
SUMMARY:Restore
DESCRIPTION:Meditation Mind tour
LOCATION:Restore\, Manzil Way\, Cowley Road\, Oxford\, Oxford\, \, OX4 1YH
END:VEVENT
END:VCALENDAR
