BEGIN:VCALENDAR
VERSION:2.0
PRODID:-//AudioTheme 3.0.2
BEGIN:VEVENT
UID:urn:uuid:b07dea4a-8c0a-4e93-b1f8-be44abb40660
URL:https://emilymaguire.com/shows/sakya-buddhist-centre-bristol/
DTSTART;TZID=GMT:20181208T000000
SUMMARY:Sakya Buddhist Centre Bristol
DESCRIPTION:'Meditation Mind' poetry & song tour
LOCATION:Sakya Buddhist Centre Bristol\, 121 Sommerville Road\, St Andrews\, Bristol\, BS6 5BX\, Bristol\, \, BS6 5BX
END:VEVENT
END:VCALENDAR
