BEGIN:VCALENDAR
VERSION:2.0
PRODID:-//AudioTheme 3.0.2
BEGIN:VEVENT
UID:urn:uuid:b03de4b3-3dce-4d4a-8985-a02465ba749d
URL:https://emilymaguire.com/shows/samuel-worth-chapel/
DTSTART;TZID=GMT:20260730T000000
SUMMARY:Samuel Worth Chapel
DESCRIPTION:with violinist Sue Lord
LOCATION:Samuel Worth Chapel\, The Gatehouse\, Cemetery Avenue\, Sheffield\, \, S11 8NT
END:VEVENT
END:VCALENDAR
