BEGIN:VCALENDAR
VERSION:2.0
PRODID:-//AudioTheme 3.0.2
BEGIN:VEVENT
UID:urn:uuid:5ceeca97-89c2-44af-96cf-291c56d46f73
URL:https://emilymaguire.com/shows/square-compass-inn-3/
DTSTART;VALUE=DATE:20260905
SUMMARY:Square & Compass Inn
DESCRIPTION:with violinist Sue Lord
LOCATION:Square & Compass Inn\, Worth Matravers\, Dorset BH19 3LF\, Worth Matravers\, Dorset\, BH19 3LF
END:VEVENT
END:VCALENDAR
