BEGIN:VCALENDAR
VERSION:2.0
PRODID:-//AudioTheme 3.0.2
BEGIN:VEVENT
UID:urn:uuid:b32e480c-b2a6-41b1-9842-d7d4911706da
URL:https://emilymaguire.com/shows/st-james-wine-vaults/
DTSTART;TZID=GMT:20181130T000000
SUMMARY:St James Wine Vaults
DESCRIPTION:'Meditation Mind' poetry & song tour
LOCATION:St James Wine Vaults\, 10 St James Street\, Bath\, Bath\, \, BA1 2TW
END:VEVENT
END:VCALENDAR
