BEGIN:VCALENDAR
VERSION:2.0
PRODID:-//AudioTheme 3.0.2
BEGIN:VEVENT
UID:urn:uuid:7df6cd10-2ab7-4c66-ab22-36c01b3721dc
URL:https://emilymaguire.com/shows/the-big-comfy-bookshop/
DTSTART;TZID=GMT:20181124T000000
SUMMARY:The Big Comfy Bookshop
DESCRIPTION:'Meditation Mind' poetry & song tour
LOCATION:The Big Comfy Bookshop\, Fargo Village\, Far Gosford Street\, Coventry\, Coventry\, \, CV1 5ED
END:VEVENT
END:VCALENDAR
