BEGIN:VCALENDAR
VERSION:2.0
PRODID:-//AudioTheme 3.0.2
BEGIN:VEVENT
UID:urn:uuid:84d1ad44-a3cc-4659-9fae-642fcac8aee0
URL:https://emilymaguire.com/shows/the-book-shop/
DTSTART;TZID=GMT:20181111T000000
SUMMARY:The Book Shop
DESCRIPTION:'Meditation Mind' poetry & song tour
LOCATION:The Book Shop\, 14 South St\, Bridport\, Bridport\, \, DT6 3NQ
END:VEVENT
END:VCALENDAR
