BEGIN:VCALENDAR
VERSION:2.0
PRODID:-//AudioTheme 3.0.2
BEGIN:VEVENT
UID:urn:uuid:f2829218-aa86-41b0-b5b7-5d8e7727db10
URL:https://emilymaguire.com/shows/the-stables-stage-2/
DTSTART;TZID=GMT:20261003T000000
SUMMARY:The Stables Stage 2
DESCRIPTION:with violinist Sue Lord  8.45pm start
LOCATION:The Stables\, Stockwell Lane\, Wavendon\, Milton Keynes MK17 8LU\, Milton Keynes\, \, MK17 8LU
END:VEVENT
END:VCALENDAR
