BEGIN:VCALENDAR
VERSION:2.0
PRODID:-//AudioTheme 3.0.2
BEGIN:VEVENT
UID:urn:uuid:2d90a299-cd50-48bd-8c16-e65081e8cdab
URL:https://emilymaguire.com/shows/twickfolk-2/
DTSTART;TZID=GMT:20250622T000000
SUMMARY:Twickfolk
DESCRIPTION:* CANCELLED DUE TO ILLNESS *
LOCATION:Twickfolk\, The Cabbage Patch Pub\, 67 London Road\, Twickenham\, London\, 
END:VEVENT
END:VCALENDAR
